BEGIN:VCALENDAR
VERSION:2.0
PRODID:-//Böker &amp; Paul - ECPv6.15.20//NONSGML v1.0//EN
CALSCALE:GREGORIAN
METHOD:PUBLISH
X-ORIGINAL-URL:https://boekerpaul.de
X-WR-CALDESC:Veranstaltungen für Böker &amp; Paul
REFRESH-INTERVAL;VALUE=DURATION:PT1H
X-Robots-Tag:noindex
X-PUBLISHED-TTL:PT1H
BEGIN:VTIMEZONE
TZID:Europe/Berlin
BEGIN:DAYLIGHT
TZOFFSETFROM:+0100
TZOFFSETTO:+0200
TZNAME:CEST
DTSTART:20250330T010000
END:DAYLIGHT
BEGIN:STANDARD
TZOFFSETFROM:+0200
TZOFFSETTO:+0100
TZNAME:CET
DTSTART:20251026T010000
END:STANDARD
BEGIN:DAYLIGHT
TZOFFSETFROM:+0100
TZOFFSETTO:+0200
TZNAME:CEST
DTSTART:20260329T010000
END:DAYLIGHT
BEGIN:STANDARD
TZOFFSETFROM:+0200
TZOFFSETTO:+0100
TZNAME:CET
DTSTART:20261025T010000
END:STANDARD
BEGIN:DAYLIGHT
TZOFFSETFROM:+0100
TZOFFSETTO:+0200
TZNAME:CEST
DTSTART:20270328T010000
END:DAYLIGHT
BEGIN:STANDARD
TZOFFSETFROM:+0200
TZOFFSETTO:+0100
TZNAME:CET
DTSTART:20271031T010000
END:STANDARD
END:VTIMEZONE
BEGIN:VEVENT
DTSTART;TZID=Europe/Berlin:20260504T180000
DTEND;TZID=Europe/Berlin:20260504T220000
DTSTAMP:20260425T152704
CREATED:20260421T131932Z
LAST-MODIFIED:20260421T132945Z
UID:144068-1777917600-1777932000@boekerpaul.de
SUMMARY:Sicherheit für Ihr Vermögen in unsicheren Zeiten
DESCRIPTION:Wir laden Sie ein zu unserer Veranstaltung am Montag\, 04.05.2026 in unseren Geschäftsräumen im Quartier Süd\, Stauffenbergallee 3 in Montabaur zum Thema: „Sicherheit für Ihr Vermögen in unsicheren Zeiten“.\nUnsichere Märkte\, geopolitische Spannungen und wirtschaftliche Herausforderungen stellen viele Vermögensentscheidungen zunehmend infrage. Gerade in solchen Phasen zeigt sich\, wie belastbar eine Vermögensstrategie tatsächlich ist. \nIn unserer Veranstaltung erhalten Sie einen klaren Einblick\, wie Vermögen nicht nur verwaltet\, sondern strukturiert geschützt und nachhaltig entwickelt werden kann. Sie erfahren unter anderem: \n\nWie Sie Ihr Vermögen gezielt gegen unerwartete Risiken absichern\nWelche Rolle Struktur\, Liquidität und Diversifikation spielen\nWorauf es bei einer langfristig stabilen Vermögensstrategie ankommt\n\nIhr Vermögen verdient mehr als nur Verwaltung – es verdient Schutz und Wachstum. \nUnser Vorstandsmitglied\, Herr Dr. Thomas Paul\, zeigt Ihnen praxisnah Wege auf\, wie eine zeitgemäße Absicherungs- und Entwicklungsstrategie aussehen kann. \nProgrammablauf: \nab 18:00 Uhr     Eintreffen der Teilnehmer \nab 18:30 Uhr     Begrüßung \nab 18:40 Uhr     Vortrag: \n„Sicherheit für Ihr Vermögen in unsicheren Zeiten“\nHerr Dr. Thomas Paul\, Vorstand Böker & Paul AG \nim Anschluss Fragen und Diskussion\nca. 20:00 Uhr Ausklang der Veranstaltung mit Verköstigung \nWenn Sie an unserer Veranstaltung teilnehmen möchten\, melden Sie sich bitte verbindlich bis Freitag\, 24.04.2026 per E-Mail unter der Adresse empfang@boekerpaul.de oder telefonisch unter 02602 94946-0 an. \nWir freuen uns auch sehr über Gäste\, die Interesse haben\, uns kennenzulernen. \nMöchten Sie jemanden mitbringen? Zögern Sie nicht und melden Sie sich gemeinsam an!
URL:https://boekerpaul.de/event/sicherheit-fuer-ihr-vermoegen-in-unsicheren-zeiten/
LOCATION:Böker & Paul AG\, Stauffenbergallee 3\, Montabaur\, Rheinland-Pfalz\, 56410\, Deutschland
ATTACH;FMTTYPE=image/jpeg:https://boekerpaul.de/wp-content/uploads/2026/04/IMG_2500-e1776778142617.jpg
ORGANIZER;CN="B%C3%B6ker & Paul AG - Kanzlei f%C3%BCr Verm%C3%B6gensmanagement":MAILTO:empfang@boekerpaul.de
END:VEVENT
END:VCALENDAR